BEGIN:VCALENDAR
VERSION:2.0
PRODID:-//Anglican Diocese  - ECPv4.9.13//NONSGML v1.0//EN
CALSCALE:GREGORIAN
METHOD:PUBLISH
X-WR-CALNAME:Anglican Diocese 
X-ORIGINAL-URL:https://www.calledsouth.org.nz
X-WR-CALDESC:Events for Anglican Diocese 
BEGIN:VTIMEZONE
TZID:Australia/Sydney
BEGIN:STANDARD
TZOFFSETFROM:+1100
TZOFFSETTO:+1000
TZNAME:AEST
DTSTART:20190406T160000
END:STANDARD
BEGIN:DAYLIGHT
TZOFFSETFROM:+1000
TZOFFSETTO:+1100
TZNAME:AEDT
DTSTART:20191005T160000
END:DAYLIGHT
TZID:Pacific/Auckland
BEGIN:STANDARD
TZOFFSETFROM:+1300
TZOFFSETTO:+1200
TZNAME:NZST
DTSTART:20190406T140000
END:STANDARD
BEGIN:DAYLIGHT
TZOFFSETFROM:+1200
TZOFFSETTO:+1300
TZNAME:NZDT
DTSTART:20190928T140000
END:DAYLIGHT
END:VTIMEZONE
BEGIN:VEVENT
DTSTART;TZID=Australia/Sydney:20191212T140000
DTEND;TZID=Australia/Sydney:20191212T160000
DTSTAMP:20191219T093737
CREATED:20191210T201755Z
LAST-MODIFIED:20191210T201755Z
UID:1668-1576159200-1576166400@www.calledsouth.org.nz
SUMMARY:Clergy Christmas Function
DESCRIPTION:For all Clergy\, Archdeacons\, Spouses\, Partners\, Children\, Clergy Widowers and Widows – Thursday 12th December 2pm – 4pm. \n
URL:https://www.calledsouth.org.nz/event/clergy-christmas-function/
LOCATION:Peter Mann House\, 1A Howden Street\, Dunedin\, 9052
ORGANIZER;CN="Nicola%20Wong":MAILTO:bishops.pa@calledsouth.org.nz
END:VEVENT
BEGIN:VEVENT
DTSTART;TZID=Pacific/Auckland:20191217T100000
DTEND;TZID=Pacific/Auckland:20191217T113000
DTSTAMP:20191219T093737
CREATED:20191210T202804Z
LAST-MODIFIED:20191210T202832Z
UID:1671-1576576800-1576582200@www.calledsouth.org.nz
SUMMARY:Dunedin Diocesan Trust Board (DDTB)
DESCRIPTION:Monthly meeting of the DDTB at Peter Mann House and by Zoom video conference \n
URL:https://www.calledsouth.org.nz/event/dunedin-diocesan-trust-board-ddtb/
LOCATION:Peter Mann House\, 1A Howden Street\, Dunedin\, 9052
ORGANIZER;CN="Ginny%20Kitchingman":MAILTO:ginny@calledsouth.org.nz
END:VEVENT
END:VCALENDAR